BEGIN:VCALENDAR
VERSION:2.0
PRODID:-//CES PTA - ECPv6.15.20//NONSGML v1.0//EN
CALSCALE:GREGORIAN
METHOD:PUBLISH
X-ORIGINAL-URL:https://cespta.net
X-WR-CALDESC:Events for CES PTA
REFRESH-INTERVAL;VALUE=DURATION:PT1H
X-Robots-Tag:noindex
X-PUBLISHED-TTL:PT1H
BEGIN:VTIMEZONE
TZID:America/New_York
BEGIN:DAYLIGHT
TZOFFSETFROM:-0500
TZOFFSETTO:-0400
TZNAME:EDT
DTSTART:20210314T070000
END:DAYLIGHT
BEGIN:STANDARD
TZOFFSETFROM:-0400
TZOFFSETTO:-0500
TZNAME:EST
DTSTART:20211107T060000
END:STANDARD
BEGIN:DAYLIGHT
TZOFFSETFROM:-0500
TZOFFSETTO:-0400
TZNAME:EDT
DTSTART:20220313T070000
END:DAYLIGHT
BEGIN:STANDARD
TZOFFSETFROM:-0400
TZOFFSETTO:-0500
TZNAME:EST
DTSTART:20221106T060000
END:STANDARD
BEGIN:DAYLIGHT
TZOFFSETFROM:-0500
TZOFFSETTO:-0400
TZNAME:EDT
DTSTART:20230312T070000
END:DAYLIGHT
BEGIN:STANDARD
TZOFFSETFROM:-0400
TZOFFSETTO:-0500
TZNAME:EST
DTSTART:20231105T060000
END:STANDARD
END:VTIMEZONE
BEGIN:VEVENT
DTSTART;VALUE=DATE:20221016
DTEND;VALUE=DATE:20221017
DTSTAMP:20260419T214836
CREATED:20220919T132930Z
LAST-MODIFIED:20221010T133530Z
UID:10480-1665878400-1665964799@cespta.net
SUMMARY:CES FUNd Run 2022
DESCRIPTION:  \n \n  \nThe CES FUNd Run has officially kicked off! \nFundraiser packets have been sent home and donations have started rolling in. \nPlease help support CES by setting up your personal donation page and sharing the fundraiser with your friends and family. All details and directions are in the yellow fundraising packet and can also be accessed at the following link: \nhttp://www.99pledges.com/fund/fundrunfun \nFor every $10 donation to your page you will earn a raffle entry. \nExample: \n$10 pledge = one raffle entry \n$100 pledge = 10 raffle entries \n$250 pledge = 25 raffle entries \nSome of the prizes are: \n\nBeats by Dre\nA Scooter\nSkyZone Jump Passes\nBlowfish Poke Gift Cards\n3 – Dream Auto Mobile Detailing Gift Certificates\nCrazy Mason Milkshakes\nFREE Tickets to the Spring Fling\nThe Ultimate Fidget Bundle\n\nand more… \nThe student with the highest donations in the school will win a $50 Amazon Gift Card!! \nEach Grade will compete to raise donations by class for a prize. The class of each grade that raises the most will win a special class prize and the teacher of that class will also win a very special teacher prize. \nWe have a school wide goal to earn $8\,500 and when we meet our goal we will have an extra special school wide treat!!  As of today we have raised $825 in funds and the classroom in 1st place so far is Mrs Raffael’s Kindergarten class. \nEveryone is invited to the fun run\, you do not need to raise funds to run and have fun! \nDetails for the day of the FUNd Run: \n\n– You do not have to raise any funds to attend the Fun Run and Run.\n– Show up to run with your classmates wearing your school spirit CES School Colors!!\n– Families can run with you or cheer you on!!\n– The run is one lap and approximately 1/2 mile on mostly grass with some mulch terrain.\n– Every participant on the day of the run will receive a participation medal and keepsake charm.\n– Donations are needed for Raffle Entry.\n– The FUNd Run will be 3:00-5:00 rain or shine\n– Kona Ice and BullHead Pit Beef will be there!\n\nWe look forward to seeing many of you in your school colors at this FUN event!!
URL:https://cespta.net/event/ces-fun-run/
LOCATION:Clarksville Elementary School
CATEGORIES:Fundraisers,Main Event
END:VEVENT
END:VCALENDAR